BEGIN:VCALENDAR
VERSION:2.0
CALSCALE:GREGORIAN
PRODID:-//Diputació de Barcelona//DibaCMS//EN
BEGIN:VEVENT
UID:35836
DTSTAMP:20260425T130050
DTSTART:20260515T173000
DTEND:20260515T173000
SUMMARY:Taller sobre l'ús de pantalles
LOCATION:Carrer Balmes, 16       08110 Montcada i Reixac
METHOD:PUBLISH
X-WR-CALNAME:oac@montcada.org
X-WR-TIMEZONE:Europe/Madrid
DESCRIPTION:
URI:https://www.montcada.cat/actualitat/agenda/taller-sobre-lus-de-pantalles.html
CLASS:PUBLIC
END:VEVENT
END:VCALENDAR
