BEGIN:VCALENDAR
VERSION:2.0
CALSCALE:GREGORIAN
PRODID:-//Diputació de Barcelona//DibaCMS//EN
BEGIN:VEVENT
UID:35833
DTSTAMP:20260425T143710
DTSTART:20260506T180000
DTEND:20260506T180000
SUMMARY:Espai de debat. parlem sobre els vapers
LOCATION:Carrer Balmes, 16       08110 Montcada i Reixac
METHOD:PUBLISH
X-WR-CALNAME:oac@montcada.org
X-WR-TIMEZONE:Europe/Madrid
DESCRIPTION:
URI:https://www.montcada.cat/actualitat/agenda/espai-de-debat-parlem-sobre-els-vapers.html
CLASS:PUBLIC
END:VEVENT
END:VCALENDAR
