BEGIN:VCALENDAR
VERSION:2.0
CALSCALE:GREGORIAN
PRODID:-//Diputació de Barcelona//DibaCMS//EN
BEGIN:VEVENT
UID:35832
DTSTAMP:20260425T125908
DTSTART:20260508T180000
DTEND:20260508T180000
SUMMARY:Dj concert + pica pica
LOCATION:Carrer Balmes, 16       08110 Montcada i Reixac
METHOD:PUBLISH
X-WR-CALNAME:oac@montcada.org
X-WR-TIMEZONE:Europe/Madrid
DESCRIPTION:
URI:https://www.montcada.cat/actualitat/agenda/dj-concert--pica-pica.html
CLASS:PUBLIC
END:VEVENT
END:VCALENDAR
