BEGIN:VCALENDAR
VERSION:2.0
CALSCALE:GREGORIAN
PRODID:-//Diputació de Barcelona//DibaCMS//EN
BEGIN:VEVENT
UID:35830
DTSTAMP:20260424T201923
DTSTART:20260509T160000
DTEND:20260509T220000
SUMMARY:Cinquantè aniversari Escola Font Freda
LOCATION:Carrer Francesc Layret, s/n       08110 Montcada i Reixac
METHOD:PUBLISH
X-WR-CALNAME:oac@montcada.org
X-WR-TIMEZONE:Europe/Madrid
DESCRIPTION:
URI:https://www.montcada.cat/actualitat/agenda/cinquante-aniversari-escola-font-freda.html
CLASS:PUBLIC
END:VEVENT
END:VCALENDAR
