BEGIN:VCALENDAR
VERSION:2.0
CALSCALE:GREGORIAN
PRODID:-//Diputació de Barcelona//DibaCMS//EN
BEGIN:VEVENT
UID:35827
DTSTAMP:20260424T161530
DTSTART:20260425T000000
DTEND:20260503T000000
SUMMARY:Festa Major Mas Rampinyo 2026
LOCATION:
METHOD:PUBLISH
X-WR-CALNAME:oac@montcada.org
X-WR-TIMEZONE:Europe/Madrid
DESCRIPTION:
URI:https://www.montcada.cat/actualitat/agenda/festa-major-mas-rampinyo-2026.html
CLASS:PUBLIC
END:VEVENT
END:VCALENDAR
