BEGIN:VCALENDAR
VERSION:2.0
CALSCALE:GREGORIAN
PRODID:-//Diputació de Barcelona//DibaCMS//EN
BEGIN:VEVENT
UID:35826
DTSTAMP:20260425T141024
DTSTART:20260517T110000
DTEND:20260517T110000
SUMMARY:Teatre. Postres de músic
LOCATION:Carretera N-150, km 2,6       08110 Montcada i Reixac
METHOD:PUBLISH
X-WR-CALNAME:oac@montcada.org
X-WR-TIMEZONE:Europe/Madrid
DESCRIPTION:
URI:https://www.montcada.cat/actualitat/agenda/teatre-postres-de-music.html
CLASS:PUBLIC
END:VEVENT
END:VCALENDAR
