BEGIN:VCALENDAR
VERSION:2.0
CALSCALE:GREGORIAN
PRODID:-//Diputació de Barcelona//DibaCMS//EN
BEGIN:VEVENT
UID:35825
DTSTAMP:20260425T154118
DTSTART:20260516T193000
DTEND:20260516T193000
SUMMARY:Teatre. Un ram de Margarides, a cada nínxol de bruixa
LOCATION:Carretera N-150, km 2,6       08110 Montcada i Reixac
METHOD:PUBLISH
X-WR-CALNAME:oac@montcada.org
X-WR-TIMEZONE:Europe/Madrid
DESCRIPTION:
URI:https://www.montcada.cat/actualitat/agenda/teatre-un-ram-de-margarides-a-cada-ninxol-de-bruixa.html
CLASS:PUBLIC
END:VEVENT
END:VCALENDAR
