BEGIN:VCALENDAR
VERSION:2.0
CALSCALE:GREGORIAN
PRODID:-//Diputació de Barcelona//DibaCMS//EN
BEGIN:VEVENT
UID:35807
DTSTAMP:20260425T160712
DTSTART:20260427T173000
DTEND:20260427T173000
SUMMARY:Reunió informativa del vial de la Riera de Sant Cugat
LOCATION:Riera de Sant Cugat (vial darrera de l'Escola Mitja Costa) 
METHOD:PUBLISH
X-WR-CALNAME:oac@montcada.org
X-WR-TIMEZONE:Europe/Madrid
DESCRIPTION:
URI:https://www.montcada.cat/actualitat/agenda/reunio-informativa-del-vial-de-la-riera-de-sant-cugat.html
CLASS:PUBLIC
END:VEVENT
END:VCALENDAR
