BEGIN:VCALENDAR
VERSION:2.0
CALSCALE:GREGORIAN
PRODID:-//Diputació de Barcelona//DibaCMS//EN
BEGIN:VEVENT
UID:35804
DTSTAMP:20260422T033622
DTSTART:20260505T180000
DTEND:20260505T180000
SUMMARY:Espais de salut. Taller d'automassatge
LOCATION:Avinguda de la Unitat, s/n 08110 Montcada i Reixac
METHOD:PUBLISH
X-WR-CALNAME:oac@montcada.org
X-WR-TIMEZONE:Europe/Madrid
DESCRIPTION:
URI:https://www.montcada.cat/actualitat/agenda/espais-de-salut-taller-dautomassatge.html
CLASS:PUBLIC
END:VEVENT
END:VCALENDAR
