BEGIN:VCALENDAR
VERSION:2.0
CALSCALE:GREGORIAN
PRODID:-//Diputació de Barcelona//DibaCMS//EN
BEGIN:VEVENT
UID:35803
DTSTAMP:20260422T004519
DTSTART:20260505T183000
DTEND:20260609T193000
SUMMARY:Espais de salut. Jornades sobre nutrició: alimentació saludable
LOCATION:Carrer Llevant, 10       08110 Montcada i Reixac
METHOD:PUBLISH
X-WR-CALNAME:oac@montcada.org
X-WR-TIMEZONE:Europe/Madrid
DESCRIPTION:
URI:https://www.montcada.cat/actualitat/agenda/espais-de-salut-jornades-sobre-nutricio-alimentacio-saludable.html
CLASS:PUBLIC
END:VEVENT
END:VCALENDAR
