BEGIN:VCALENDAR
VERSION:2.0
CALSCALE:GREGORIAN
PRODID:-//Diputació de Barcelona//DibaCMS//EN
BEGIN:VEVENT
UID:35787
DTSTAMP:20260424T161105
DTSTART:20260425T120000
DTEND:20260425T120000
SUMMARY:Presentació nou servei neteja viària
LOCATION:camí de la Font Freda 08110 Montcada i Reixac
METHOD:PUBLISH
X-WR-CALNAME:oac@montcada.org
X-WR-TIMEZONE:Europe/Madrid
DESCRIPTION:
URI:https://www.montcada.cat/actualitat/agenda/presentacio-nou-servei-neteja-viaria.html
CLASS:PUBLIC
END:VEVENT
END:VCALENDAR
