BEGIN:VCALENDAR
VERSION:2.0
CALSCALE:GREGORIAN
PRODID:-//Diputació de Barcelona//DibaCMS//EN
BEGIN:VEVENT
UID:35771
DTSTAMP:20260420T160309
DTSTART:20260420T000000
DTEND:20260530T000000
SUMMARY:Exposició. Imaginar la ciutat que ve
LOCATION:Carrer Major, 32 - Carrer Domènec Fins, 15 08110 Montcada i Reixac
METHOD:PUBLISH
X-WR-CALNAME:oac@montcada.org
X-WR-TIMEZONE:Europe/Madrid
DESCRIPTION:
URI:https://www.montcada.cat/actualitat/agenda/exposicio-imaginar-la-ciutat-que-ve.html
CLASS:PUBLIC
END:VEVENT
END:VCALENDAR
