BEGIN:VCALENDAR
VERSION:2.0
CALSCALE:GREGORIAN
PRODID:-//Diputació de Barcelona//DibaCMS//EN
BEGIN:VEVENT
UID:35757
DTSTAMP:20260421T133713
DTSTART:20260617T173000
DTEND:20260617T173000
SUMMARY:Hora del conte. Les aventures de Tom Sawyer
LOCATION: c. Tarragona, 32       08110 Montcada i Reixac
METHOD:PUBLISH
X-WR-CALNAME:oac@montcada.org
X-WR-TIMEZONE:Europe/Madrid
DESCRIPTION:
URI:https://www.montcada.cat/actualitat/agenda/hora-del-conte-les-aventures-de-tom-sawyer.html
CLASS:PUBLIC
END:VEVENT
END:VCALENDAR
