BEGIN:VCALENDAR
VERSION:2.0
CALSCALE:GREGORIAN
PRODID:-//Diputació de Barcelona//DibaCMS//EN
BEGIN:VEVENT
UID:35725
DTSTAMP:20260421T140939
DTSTART:20260422T160000
DTEND:20260423T180000
SUMMARY:Mercat d'intercanvi de roba i calçat
LOCATION:Plaça Lluís Companys 08110 Montcada i Reixac
METHOD:PUBLISH
X-WR-CALNAME:oac@montcada.org
X-WR-TIMEZONE:Europe/Madrid
DESCRIPTION:
URI:https://www.montcada.cat/actualitat/agenda/mercat-dintercanvi-de-roba-i-calcat.html
CLASS:PUBLIC
END:VEVENT
END:VCALENDAR
