BEGIN:VCALENDAR
VERSION:2.0
CALSCALE:GREGORIAN
PRODID:-//Diputació de Barcelona//DibaCMS//EN
BEGIN:VEVENT
UID:35314
DTSTAMP:20260421T202027
DTSTART:20260306T180000
DTEND:20260306T180000
SUMMARY:Dia de la Dona
LOCATION:Carrer Balmes, 16       08110 Montcada i Reixac
METHOD:PUBLISH
X-WR-CALNAME:oac@montcada.org
X-WR-TIMEZONE:Europe/Madrid
DESCRIPTION:
URI:https://www.montcada.cat/actualitat/agenda/dia-de-la-dona.html
CLASS:PUBLIC
END:VEVENT
END:VCALENDAR
