BEGIN:VCALENDAR
VERSION:2.0
CALSCALE:GREGORIAN
PRODID:-//Diputació de Barcelona//DibaCMS//EN
BEGIN:VEVENT
UID:35215
DTSTAMP:20260421T145820
DTSTART:20260303T180000
DTEND:20260305T200000
SUMMARY:Jornades formatives: 'Com elaborem un protocol propi de l’entitat'
LOCATION:Carrer Major, 32 - Carrer Domènec Fins, 15 08110 Montcada i Reixac
METHOD:PUBLISH
X-WR-CALNAME:oac@montcada.org
X-WR-TIMEZONE:Europe/Madrid
DESCRIPTION:
URI:https://www.montcada.cat/actualitat/agenda/jornades-formatives-com-elaborem-un-protocol-propi-de-lentitat.html
CLASS:PUBLIC
END:VEVENT
END:VCALENDAR
