BEGIN:VCALENDAR
VERSION:2.0
CALSCALE:GREGORIAN
PRODID:-//Diputació de Barcelona//DibaCMS//EN
BEGIN:VEVENT
UID:34951
DTSTAMP:20260426T025059
DTSTART:20260121T173000
DTEND:20260121T173000
SUMMARY:Hora del conte: 'Coses de porcs i altres animalades'
LOCATION: c. Tarragona, 32       08110 Montcada i Reixac
METHOD:PUBLISH
X-WR-CALNAME:oac@montcada.org
X-WR-TIMEZONE:Europe/Madrid
DESCRIPTION:
URI:https://www.montcada.cat/actualitat/agenda/hora-del-conte-coses-de-porcs-i-altres-animalades.html
CLASS:PUBLIC
END:VEVENT
END:VCALENDAR
