BEGIN:VCALENDAR
VERSION:2.0
CALSCALE:GREGORIAN
PRODID:-//Diputació de Barcelona//DibaCMS//EN
BEGIN:VEVENT
UID:34933
DTSTAMP:20260426T032440
DTSTART:20260121T180000
DTEND:20260121T180000
SUMMARY:Gimcana per equips
LOCATION:Carrer Balmes, 16       08110 Montcada i Reixac
METHOD:PUBLISH
X-WR-CALNAME:oac@montcada.org
X-WR-TIMEZONE:Europe/Madrid
DESCRIPTION:
URI:https://www.montcada.cat/actualitat/agenda/gimcana-per-equips.html
CLASS:PUBLIC
END:VEVENT
END:VCALENDAR
