BEGIN:VCALENDAR
VERSION:2.0
CALSCALE:GREGORIAN
PRODID:-//Diputació de Barcelona//DibaCMS//EN
BEGIN:VEVENT
UID:34705
DTSTAMP:20260420T234044
DTSTART:20251223T173000
DTEND:20251223T173000
SUMMARY:Taller: 'Fes-ho tu mateixa: Creació de clauers'
LOCATION:Carrer Balmes, 16       08110 Montcada i Reixac
METHOD:PUBLISH
X-WR-CALNAME:oac@montcada.org
X-WR-TIMEZONE:Europe/Madrid
DESCRIPTION:
URI:https://www.montcada.cat/temes/nadal/activitats-de-nadal/taller-fes-ho-tu-mateixa-creacio-de-clauers.html
CLASS:PUBLIC
END:VEVENT
END:VCALENDAR
