BEGIN:VCALENDAR
VERSION:2.0
CALSCALE:GREGORIAN
PRODID:-//Diputació de Barcelona//DibaCMS//EN
BEGIN:VEVENT
UID:34679
DTSTAMP:20260422T081316
DTSTART:20260510T180000
DTEND:20260510T180000
SUMMARY:Teatre: 'Cor dels amants'
LOCATION:Carrer Tarragona, 32       08110 Montcada i Reixac
METHOD:PUBLISH
X-WR-CALNAME:oac@montcada.org
X-WR-TIMEZONE:Europe/Madrid
DESCRIPTION:
URI:https://www.montcada.cat/actualitat/agenda/teatre-cor-dels-amants.html
CLASS:PUBLIC
END:VEVENT
END:VCALENDAR
