BEGIN:VCALENDAR
VERSION:2.0
CALSCALE:GREGORIAN
PRODID:-//Diputació de Barcelona//DibaCMS//EN
BEGIN:VEVENT
UID:34678
DTSTAMP:20260421T231908
DTSTART:20260508T200000
DTEND:20260508T200000
SUMMARY:Música: 'Concert de jazz Smack Dab'
LOCATION:Carrer Tarragona, 32       08110 Montcada i Reixac
METHOD:PUBLISH
X-WR-CALNAME:oac@montcada.org
X-WR-TIMEZONE:Europe/Madrid
DESCRIPTION:
URI:https://www.montcada.cat/actualitat/agenda/musica-concert-de-jazz-smack-dab.html
CLASS:PUBLIC
END:VEVENT
END:VCALENDAR
