BEGIN:VCALENDAR
VERSION:2.0
CALSCALE:GREGORIAN
PRODID:-//Diputació de Barcelona//DibaCMS//EN
BEGIN:VEVENT
UID:34676
DTSTAMP:20260426T031415
DTSTART:20260412T120000
DTEND:20260412T120000
SUMMARY:Titelles: 'El monstre del talent'
LOCATION:Carrer Tarragona, 32       08110 Montcada i Reixac
METHOD:PUBLISH
X-WR-CALNAME:oac@montcada.org
X-WR-TIMEZONE:Europe/Madrid
DESCRIPTION:
URI:https://www.montcada.cat/actualitat/agenda/titelles-el-monstre-del-talent.html
CLASS:PUBLIC
END:VEVENT
END:VCALENDAR
