BEGIN:VCALENDAR
VERSION:2.0
CALSCALE:GREGORIAN
PRODID:-//Diputació de Barcelona//DibaCMS//EN
BEGIN:VEVENT
UID:34602
DTSTAMP:20260420T233824
DTSTART:20251222T173000
DTEND:20251222T173000
SUMMARY:Karaoke Kabaret
LOCATION:Avinguda de la Unitat, s/n 08110 Montcada i Reixac
METHOD:PUBLISH
X-WR-CALNAME:oac@montcada.org
X-WR-TIMEZONE:Europe/Madrid
DESCRIPTION:
URI:https://www.montcada.cat/temes/nadal/activitats-de-nadal/karaoke-kabaret.html
CLASS:PUBLIC
END:VEVENT
END:VCALENDAR
