BEGIN:VCALENDAR
VERSION:2.0
CALSCALE:GREGORIAN
PRODID:-//Diputació de Barcelona//DibaCMS//EN
BEGIN:VEVENT
UID:34600
DTSTAMP:20260421T010237
DTSTART:20251222T173000
DTEND:20251222T173000
SUMMARY:Fem cagar el Tió i Pare Noel
LOCATION:Carrer Geranis, s/n       08110 Montcada i Reixac
METHOD:PUBLISH
X-WR-CALNAME:oac@montcada.org
X-WR-TIMEZONE:Europe/Madrid
DESCRIPTION:
URI:https://www.montcada.cat/temes/nadal/activitats-de-nadal/fem-cagar-el-tio-i-pare-noel.html
CLASS:PUBLIC
END:VEVENT
END:VCALENDAR
