BEGIN:VCALENDAR
VERSION:2.0
CALSCALE:GREGORIAN
PRODID:-//Diputació de Barcelona//DibaCMS//EN
BEGIN:VEVENT
UID:34500
DTSTAMP:20260420T234458
DTSTART:20251227T190000
DTEND:20251227T210000
SUMMARY:Bingo musical de Nadal
LOCATION:Carretera N-150, km 2,6       08110 Montcada i Reixac
METHOD:PUBLISH
X-WR-CALNAME:oac@montcada.org
X-WR-TIMEZONE:Europe/Madrid
DESCRIPTION:
URI:https://www.montcada.cat/temes/nadal/activitats-de-nadal/bingo-musical-de-nadal.html
CLASS:PUBLIC
END:VEVENT
END:VCALENDAR
