BEGIN:VCALENDAR
VERSION:2.0
CALSCALE:GREGORIAN
PRODID:-//Diputació de Barcelona//DibaCMS//EN
BEGIN:VEVENT
UID:33863
DTSTAMP:20260424T090933
DTSTART:20241004T110000
DTEND:20241004T110000
SUMMARY:Hora del conte 'Canta'm un conte'
LOCATION: c. Tarragona, 32       08110 Montcada i Reixac
METHOD:PUBLISH
X-WR-CALNAME:oac@montcada.org
X-WR-TIMEZONE:Europe/Madrid
DESCRIPTION:
URI:https://www.montcada.cat/actualitat/agenda/33863-hora-del-conte-cantam-un-conte.html
CLASS:PUBLIC
END:VEVENT
END:VCALENDAR
