BEGIN:VCALENDAR
VERSION:2.0
CALSCALE:GREGORIAN
PRODID:-//Diputació de Barcelona//DibaCMS//EN
BEGIN:VEVENT
UID:33854
DTSTAMP:20260421T174841
DTSTART:20251003T180000
DTEND:20251003T180000
SUMMARY:Aula digital 'Alfabetització digital bàsica: aprèn a utilitzar l'ordinador, el ratolí i els navegadors'
LOCATION: c. Tarragona, 32       08110 Montcada i Reixac
METHOD:PUBLISH
X-WR-CALNAME:oac@montcada.org
X-WR-TIMEZONE:Europe/Madrid
DESCRIPTION:
URI:https://www.montcada.cat/actualitat/agenda/aula-digital-alfabetitzacio-digital-basica-apren-a-utilitzar-lordinador-el-ratoli-i-els-navegadors.html
CLASS:PUBLIC
END:VEVENT
END:VCALENDAR
