BEGIN:VCALENDAR
VERSION:2.0
CALSCALE:GREGORIAN
PRODID:-//Diputació de Barcelona//DibaCMS//EN
BEGIN:VEVENT
UID:33733
DTSTAMP:20260426T060552
DTSTART:20260308T180000
DTEND:20260308T180000
SUMMARY:Montcada a Escena 'Mujeres'
LOCATION:Carrer Tarragona, 32       08110 Montcada i Reixac
METHOD:PUBLISH
X-WR-CALNAME:oac@montcada.org
X-WR-TIMEZONE:Europe/Madrid
DESCRIPTION:
URI:https://www.montcada.cat/actualitat/agenda/montcada-a-escena-mujeres.html
CLASS:PUBLIC
END:VEVENT
END:VCALENDAR
