BEGIN:VCALENDAR
VERSION:2.0
CALSCALE:GREGORIAN
PRODID:-//Diputació de Barcelona//DibaCMS//EN
BEGIN:VEVENT
UID:32896
DTSTAMP:20260421T120917
DTSTART:20250403T181500
DTEND:20250403T181500
SUMMARY:Acte. Presentació llibre 'Societats inclusives: Re-visions sobre la dis-capacitat'
LOCATION:Carrer Geranis, s/n       08110 Montcada i Reixac
METHOD:PUBLISH
X-WR-CALNAME:oac@montcada.org
X-WR-TIMEZONE:Europe/Madrid
DESCRIPTION:
URI:https://www.montcada.cat/ajuntament/govern/agenda-politica/hemeroteca-agenda-politica/acte-presentacio-llibre-societats-inclusives-re-visions-sobre-la-dis-capacitat.html
CLASS:PUBLIC
END:VEVENT
END:VCALENDAR
