BEGIN:VCALENDAR
VERSION:2.0
CALSCALE:GREGORIAN
PRODID:-//Diputació de Barcelona//DibaCMS//EN
BEGIN:VEVENT
UID:32819
DTSTAMP:20260421T215821
DTSTART:20250330T100000
DTEND:20250330T100000
SUMMARY:Matí de llegenda
LOCATION:Carretera de la Vallençana, km 7  08110 Montcada i Reixac
METHOD:PUBLISH
X-WR-CALNAME:oac@montcada.org
X-WR-TIMEZONE:Europe/Madrid
DESCRIPTION:
URI:https://www.montcada.cat/actualitat/agenda/32819-mati-de-llegenda.html
CLASS:PUBLIC
END:VEVENT
END:VCALENDAR
