BEGIN:VCALENDAR
VERSION:2.0
CALSCALE:GREGORIAN
PRODID:-//Diputació de Barcelona//DibaCMS//EN
BEGIN:VEVENT
UID:32817
DTSTAMP:20260421T131615
DTSTART:20250401T173000
DTEND:20250401T173000
SUMMARY:Taula de debat. Ética i valors
LOCATION:Carrer Balmes, 16       08110 Montcada i Reixac
METHOD:PUBLISH
X-WR-CALNAME:oac@montcada.org
X-WR-TIMEZONE:Europe/Madrid
DESCRIPTION:
URI:https://www.montcada.cat/actualitat/agenda/taula-de-debat-etica-i-valors.html
CLASS:PUBLIC
END:VEVENT
END:VCALENDAR
