BEGIN:VCALENDAR
VERSION:2.0
CALSCALE:GREGORIAN
PRODID:-//Diputació de Barcelona//DibaCMS//EN
BEGIN:VEVENT
UID:32816
DTSTAMP:20260421T133019
DTSTART:20250404T173000
DTEND:20250404T173000
SUMMARY:Taller sobre pressió estètica
LOCATION:Carrer Balmes, 16       08110 Montcada i Reixac
METHOD:PUBLISH
X-WR-CALNAME:oac@montcada.org
X-WR-TIMEZONE:Europe/Madrid
DESCRIPTION:
URI:https://www.montcada.cat/actualitat/agenda/taller-sobre-pressio-estetica.html
CLASS:PUBLIC
END:VEVENT
END:VCALENDAR
