BEGIN:VCALENDAR
VERSION:2.0
CALSCALE:GREGORIAN
PRODID:-//Diputació de Barcelona//DibaCMS//EN
BEGIN:VEVENT
UID:32813
DTSTAMP:20260421T145944
DTSTART:20250408T163000
DTEND:20250408T163000
SUMMARY:Excursió Projecte Rius
LOCATION:Carrer Balmes, 16       08110 Montcada i Reixac
METHOD:PUBLISH
X-WR-CALNAME:oac@montcada.org
X-WR-TIMEZONE:Europe/Madrid
DESCRIPTION:
URI:https://www.montcada.cat/actualitat/agenda/excursio-projecte-rius.html
CLASS:PUBLIC
END:VEVENT
END:VCALENDAR
