BEGIN:VCALENDAR
VERSION:2.0
CALSCALE:GREGORIAN
PRODID:-//Diputació de Barcelona//DibaCMS//EN
BEGIN:VEVENT
UID:32812
DTSTAMP:20260421T121034
DTSTART:20250529T180000
DTEND:20250529T180000
SUMMARY:Comissions liles Montcada i Reixac
LOCATION:Carrer Balmes, 16       08110 Montcada i Reixac
METHOD:PUBLISH
X-WR-CALNAME:oac@montcada.org
X-WR-TIMEZONE:Europe/Madrid
DESCRIPTION:
URI:https://www.montcada.cat/actualitat/agenda/32812-comissions-liles-montcada-i-reixac.html
CLASS:PUBLIC
END:VEVENT
END:VCALENDAR
