BEGIN:VCALENDAR
VERSION:2.0
CALSCALE:GREGORIAN
PRODID:-//Diputació de Barcelona//DibaCMS//EN
BEGIN:VEVENT
UID:32797
DTSTAMP:20260421T150050
DTSTART:20250401T193000
DTEND:20250518T140000
SUMMARY:Exposició. Flocs
LOCATION: pl. de l'Església, 12       08110 Montcada i Reixac
METHOD:PUBLISH
X-WR-CALNAME:oac@montcada.org
X-WR-TIMEZONE:Europe/Madrid
DESCRIPTION:
URI:https://www.montcada.cat/actualitat/agenda/exposicio-flocs.html
CLASS:PUBLIC
END:VEVENT
END:VCALENDAR
