BEGIN:VCALENDAR
VERSION:2.0
CALSCALE:GREGORIAN
PRODID:-//Diputació de Barcelona//DibaCMS//EN
BEGIN:VEVENT
UID:32794
DTSTAMP:20260421T162313
DTSTART:20250403T190000
DTEND:20250403T190000
SUMMARY:Acte. Inauguració exposició Fotografia - Jordi Font /Anna Espí
LOCATION:Carrer Major, 32 - Carrer Domènec Fins, 15 08110 Montcada i Reixac
METHOD:PUBLISH
X-WR-CALNAME:oac@montcada.org
X-WR-TIMEZONE:Europe/Madrid
DESCRIPTION:
URI:https://www.montcada.cat/ajuntament/govern/agenda-politica/hemeroteca-agenda-politica/acte-inauguracio-exposicio-fotografia-jordi-font-anna-espi.html
CLASS:PUBLIC
END:VEVENT
END:VCALENDAR
