BEGIN:VCALENDAR
VERSION:2.0
CALSCALE:GREGORIAN
PRODID:-//Diputació de Barcelona//DibaCMS//EN
BEGIN:VEVENT
UID:32721
DTSTAMP:20260421T115508
DTSTART:20250319T173000
DTEND:20250319T173000
SUMMARY:Visita. Eva Menor, consellera Feminisme i Igualtat
LOCATION:
METHOD:PUBLISH
X-WR-CALNAME:oac@montcada.org
X-WR-TIMEZONE:Europe/Madrid
DESCRIPTION:
URI:https://www.montcada.cat/ajuntament/govern/agenda-politica/hemeroteca-agenda-politica/visita-eva-menor-consellera-feminisme-i-igualtat.html
CLASS:PUBLIC
END:VEVENT
END:VCALENDAR
