BEGIN:VCALENDAR
VERSION:2.0
CALSCALE:GREGORIAN
PRODID:-//Diputació de Barcelona//DibaCMS//EN
BEGIN:VEVENT
UID:32701
DTSTAMP:20260421T202322
DTSTART:20250314T180000
DTEND:20250314T180000
SUMMARY:Alcaldia Oberta. Barri de Mas Rampìnyo
LOCATION:Carrer Baix de Sant Pere, 15       08110 Montcada i Reixac
METHOD:PUBLISH
X-WR-CALNAME:oac@montcada.org
X-WR-TIMEZONE:Europe/Madrid
DESCRIPTION:
URI:https://www.montcada.cat/actualitat/agenda/32701-alcaldia-oberta-barri-de-mas-rampinyo.html
CLASS:PUBLIC
END:VEVENT
END:VCALENDAR
