BEGIN:VCALENDAR
VERSION:2.0
CALSCALE:GREGORIAN
PRODID:-//Diputació de Barcelona//DibaCMS//EN
BEGIN:VEVENT
UID:32696
DTSTAMP:20260421T191256
DTSTART:20250402T180000
DTEND:20250402T180000
SUMMARY:Jornades del Soterrament 2025
LOCATION: pl. de l'Església, 12       08110 Montcada i Reixac
METHOD:PUBLISH
X-WR-CALNAME:oac@montcada.org
X-WR-TIMEZONE:Europe/Madrid
DESCRIPTION:
URI:https://www.montcada.cat/actualitat/agenda/jornades-del-soterrament-2025.html
CLASS:PUBLIC
END:VEVENT
END:VCALENDAR
