BEGIN:VCALENDAR
VERSION:2.0
CALSCALE:GREGORIAN
PRODID:-//Diputació de Barcelona//DibaCMS//EN
BEGIN:VEVENT
UID:32657
DTSTAMP:20260422T051343
DTSTART:20250312T120000
DTEND:20250312T120000
SUMMARY:Reunió. Xavier Garcés, president Consell Comarcal del Vallès Occidental
LOCATION:
METHOD:PUBLISH
X-WR-CALNAME:oac@montcada.org
X-WR-TIMEZONE:Europe/Madrid
DESCRIPTION:
URI:https://www.montcada.cat/ajuntament/govern/agenda-politica/hemeroteca-agenda-politica/reunio-xavier-garces-president-consell-comarcal-del-valles-occidental.html
CLASS:PUBLIC
END:VEVENT
END:VCALENDAR
