BEGIN:VCALENDAR
VERSION:2.0
CALSCALE:GREGORIAN
PRODID:-//Diputació de Barcelona//DibaCMS//EN
BEGIN:VEVENT
UID:32639
DTSTAMP:20260422T050859
DTSTART:20250305T160000
DTEND:20250305T160000
SUMMARY:Visita. La Salle First lego League
LOCATION:Passeig Sant Joan Baptista de la Salle, 1       08110 Montcada i Reixac
METHOD:PUBLISH
X-WR-CALNAME:oac@montcada.org
X-WR-TIMEZONE:Europe/Madrid
DESCRIPTION:
URI:https://www.montcada.cat/ajuntament/govern/agenda-politica/hemeroteca-agenda-politica/visita-la-salle-first-lego-league.html
CLASS:PUBLIC
END:VEVENT
END:VCALENDAR
