BEGIN:VCALENDAR
VERSION:2.0
CALSCALE:GREGORIAN
PRODID:-//Diputació de Barcelona//DibaCMS//EN
BEGIN:VEVENT
UID:32638
DTSTAMP:20260421T174010
DTSTART:20250305T120000
DTEND:20250305T120000
SUMMARY:Reunió. Consell d'Alcaldies del Vallès Occidental
LOCATION:Sala de Juntes situada al segon pis de l’edifici del Rectorat - UAB 
METHOD:PUBLISH
X-WR-CALNAME:oac@montcada.org
X-WR-TIMEZONE:Europe/Madrid
DESCRIPTION:
URI:https://www.montcada.cat/ajuntament/govern/agenda-politica/hemeroteca-agenda-politica/reunio-consell-dalcaldies-del-valles-occidental.html
CLASS:PUBLIC
END:VEVENT
END:VCALENDAR
