BEGIN:VCALENDAR
VERSION:2.0
CALSCALE:GREGORIAN
PRODID:-//Diputació de Barcelona//DibaCMS//EN
BEGIN:VEVENT
UID:32605
DTSTAMP:20260421T162513
DTSTART:20250330T113000
DTEND:20250330T113000
SUMMARY:Jugatecambiental. Civisme al parc
LOCATION:Carrer Mas Duran, 2 08110 Montcada i Reixac
METHOD:PUBLISH
X-WR-CALNAME:oac@montcada.org
X-WR-TIMEZONE:Europe/Madrid
DESCRIPTION:
URI:https://www.montcada.cat/actualitat/agenda/32605-jugatecambiental-civisme-al-parc.html
CLASS:PUBLIC
END:VEVENT
END:VCALENDAR
