BEGIN:VCALENDAR
VERSION:2.0
CALSCALE:GREGORIAN
PRODID:-//Diputació de Barcelona//DibaCMS//EN
BEGIN:VEVENT
UID:32604
DTSTAMP:20260422T020832
DTSTART:20250323T113000
DTEND:20250323T113000
SUMMARY:Jugatecambiental. Exposició "Operació Aigua"
LOCATION:Carrer Mas Duran, 2 08110 Montcada i Reixac
METHOD:PUBLISH
X-WR-CALNAME:oac@montcada.org
X-WR-TIMEZONE:Europe/Madrid
DESCRIPTION:Activitats per aprendre en família

URI:https://www.montcada.cat/actualitat/agenda/jugatecambiental-exposicio-operacio-aigua.html
CLASS:PUBLIC
END:VEVENT
END:VCALENDAR
