BEGIN:VCALENDAR
VERSION:2.0
CALSCALE:GREGORIAN
PRODID:-//Diputació de Barcelona//DibaCMS//EN
BEGIN:VEVENT
UID:32585
DTSTAMP:20260421T185412
DTSTART:20250304T173000
DTEND:20250304T173000
SUMMARY:Reunió. Rec es mou i Cultura és barri
LOCATION:
METHOD:PUBLISH
X-WR-CALNAME:oac@montcada.org
X-WR-TIMEZONE:Europe/Madrid
DESCRIPTION:
URI:https://www.montcada.cat/ajuntament/govern/agenda-politica/hemeroteca-agenda-politica/reunio-rec-es-mou-i-cultura-es-barri.html
CLASS:PUBLIC
END:VEVENT
END:VCALENDAR
