BEGIN:VCALENDAR
VERSION:2.0
CALSCALE:GREGORIAN
PRODID:-//Diputació de Barcelona//DibaCMS//EN
BEGIN:VEVENT
UID:32582
DTSTAMP:20260422T004902
DTSTART:20250326T173000
DTEND:20250326T173000
SUMMARY:Taller. Estalvi i depuració de l'augua
LOCATION: c. Turó, 45       08110 Montcada i Reixac
METHOD:PUBLISH
X-WR-CALNAME:oac@montcada.org
X-WR-TIMEZONE:Europe/Madrid
DESCRIPTION:
URI:https://www.montcada.cat/actualitat/agenda/taller-estalvi-i-depuracio-de-laugua.html
CLASS:PUBLIC
END:VEVENT
END:VCALENDAR
