BEGIN:VCALENDAR
VERSION:2.0
CALSCALE:GREGORIAN
PRODID:-//Diputació de Barcelona//DibaCMS//EN
BEGIN:VEVENT
UID:32577
DTSTAMP:20260421T173705
DTSTART:20250305T173000
DTEND:20250305T173000
SUMMARY:Laboratori de lectura. Naturalistes
LOCATION: c. Tarragona, 32       08110 Montcada i Reixac
METHOD:PUBLISH
X-WR-CALNAME:oac@montcada.org
X-WR-TIMEZONE:Europe/Madrid
DESCRIPTION:
URI:https://www.montcada.cat/actualitat/agenda/laboratori-de-lectura-naturalistes.html
CLASS:PUBLIC
END:VEVENT
END:VCALENDAR
