BEGIN:VCALENDAR
VERSION:2.0
CALSCALE:GREGORIAN
PRODID:-//Diputació de Barcelona//DibaCMS//EN
BEGIN:VEVENT
UID:32574
DTSTAMP:20260422T021007
DTSTART:20250228T180000
DTEND:20250228T180000
SUMMARY:Carnestoltes a Can Tauler
LOCATION:Carrer Balmes, 16       08110 Montcada i Reixac
METHOD:PUBLISH
X-WR-CALNAME:oac@montcada.org
X-WR-TIMEZONE:Europe/Madrid
DESCRIPTION:
URI:https://www.montcada.cat/actualitat/agenda/carnestoltes-a-can-tauler.html
CLASS:PUBLIC
END:VEVENT
END:VCALENDAR
