BEGIN:VCALENDAR
VERSION:2.0
CALSCALE:GREGORIAN
PRODID:-//Diputació de Barcelona//DibaCMS//EN
BEGIN:VEVENT
UID:32569
DTSTAMP:20260421T184713
DTSTART:20250310T190000
DTEND:20250310T190000
SUMMARY:Club lectura novel·la. La dona més pintada
LOCATION: c. Tarragona, 32       08110 Montcada i Reixac
METHOD:PUBLISH
X-WR-CALNAME:oac@montcada.org
X-WR-TIMEZONE:Europe/Madrid
DESCRIPTION:
URI:https://www.montcada.cat/actualitat/agenda/club-lectura-novella-la-dona-mes-pintada.html
CLASS:PUBLIC
END:VEVENT
END:VCALENDAR
