BEGIN:VCALENDAR
VERSION:2.0
CALSCALE:GREGORIAN
PRODID:-//Diputació de Barcelona//DibaCMS//EN
BEGIN:VEVENT
UID:32542
DTSTAMP:20260421T202245
DTSTART:20250304T180000
DTEND:20250304T180000
SUMMARY:Taller de dapo
LOCATION:Carrer Balmes, 16       08110 Montcada i Reixac
METHOD:PUBLISH
X-WR-CALNAME:oac@montcada.org
X-WR-TIMEZONE:Europe/Madrid
DESCRIPTION:
URI:https://www.montcada.cat/actualitat/agenda/taller-de-dapo.html
CLASS:PUBLIC
END:VEVENT
END:VCALENDAR
